BEGIN:VCALENDAR
VERSION:2.0
PRODID:-//ChamberMaster//Event Calendar 2.0//EN
METHOD:PUBLISH
X-PUBLISHED-TTL:P3D
REFRESH-INTERVAL:P3D
CALSCALE:GREGORIAN
BEGIN:VEVENT
DTSTART:20230615T153000Z
DTEND:20230615T230000Z
X-MICROSOFT-CDO-ALLDAYEVENT:FALSE
SUMMARY:Point of Pride
DESCRIPTION:Our friends over at One Community have put together a fun and interesting day of learning. The Point of Pride Summit convenes some fantastic speakers on topics impacting our business community today. Learn from and engage with your peers from around our state as we celebrate LGBTQ+ Pride Month
X-ALT-DESC;FMTTYPE=text/html:<span style="color:#323232\;"><span style="font-family:georgia\,serif\;"><span style="font-size:12.0pt\;">Our friends over at One Community have put together a fun and interesting day of learning. The<strong>&nbsp\;<em>Point of Pride</em></strong>&nbsp\;<strong><em>Summit&nbsp\;</em></strong>convenes some fantastic speakers on topics impacting our business community today. Learn from and engage with your peers from around our state as we celebrate LGBTQ+ Pride Month</span></span></span>
LOCATION:Midwestern University 19555 N. 59th Ave. Glendale\, AZ 85308
UID:e.2837.769
SEQUENCE:3
DTSTAMP:20260423T194622Z
URL:https://business.equalitychamber.org/events/details/point-of-pride-769
END:VEVENT

END:VCALENDAR
