BEGIN:VCALENDAR
VERSION:2.0
PRODID:-//ChamberMaster//Event Calendar 2.0//EN
METHOD:PUBLISH
X-PUBLISHED-TTL:P3D
REFRESH-INTERVAL:P3D
CALSCALE:GREGORIAN
BEGIN:VEVENT
DTSTART:20221015T003000Z
DTEND:20221015T033000Z
X-MICROSOFT-CDO-ALLDAYEVENT:FALSE
SUMMARY:Pride Kick-Off
DESCRIPTION:Join us at Stacy's @ Melrose to kick-off Pride weekend!
X-ALT-DESC;FMTTYPE=text/html:Join us at Stacy&#39\;s @ Melrose to kick-off Pride weekend!
LOCATION:Stacy's @ Melrose 4343 N 7th Ave Phoenix\, AZ 85013
UID:e.2837.730
SEQUENCE:3
DTSTAMP:20260424T080546Z
URL:https://business.equalitychamber.org/events/details/pride-kick-off-730
END:VEVENT

END:VCALENDAR
