BEGIN:VCALENDAR
VERSION:2.0
PRODID:-//ChamberMaster//Event Calendar 2.0//EN
METHOD:PUBLISH
X-PUBLISHED-TTL:P3D
REFRESH-INTERVAL:P3D
CALSCALE:GREGORIAN
BEGIN:VEVENT
DTSTART:20221023T220000Z
DTEND:20221024T030000Z
X-MICROSOFT-CDO-ALLDAYEVENT:FALSE
SUMMARY:Pride on the Block
DESCRIPTION:Join Phoenix City Councilwoman Yassamin Ansari and presenting sponsor Mercy Care for the second annual Pride on the Block.
X-ALT-DESC;FMTTYPE=text/html:<span style="font-weight: 600\; box-sizing: border-box\; color: rgb(57\, 54\, 79)\; font-family: &quot\;Neue Plak&quot\;\, -apple-system\, BlinkMacSystemFont\, Roboto\, &quot\;Helvetica Neue&quot\;\, Helvetica\, Tahoma\, Arial\, sans-serif\; font-size: 14px\;">Join Phoenix City Councilwoman Yassamin Ansari and presenting sponsor Mercy Care for the second annual Pride on the Block.</span>
LOCATION:10 W Portland St
UID:e.2837.735
SEQUENCE:3
DTSTAMP:20260424T081945Z
URL:https://business.equalitychamber.org/events/details/pride-on-the-block-735
END:VEVENT

END:VCALENDAR
