BEGIN:VCALENDAR
VERSION:2.0
PRODID:-//ChamberMaster//Event Calendar 2.0//EN
METHOD:PUBLISH
X-PUBLISHED-TTL:P3D
REFRESH-INTERVAL:P3D
CALSCALE:GREGORIAN
BEGIN:VEVENT
DTSTART;VALUE=DATE:20230318
DTEND;VALUE=DATE:20230319
TRANSP:TRANSPARENT
X-MICROSOFT-CDO-ALLDAYEVENT:TRUE
SUMMARY:Pride Run Phoenix
DESCRIPTION:Run or walk the Melrose District in midtown\, vibrant and one of the most colorful neighborhoods in Phoenix. It's known for its antique and vintage shopping\, eateries\, diners\, bars\, and exciting nightlife\, and maybe a drag show or two. It is also known for having a supportive network of LGBTQ+ friendly businesses and residents.\n \n\nRun or walk the Half Marathon\, 10K\, or 5K timed courses with fast\, flat routes around midtown\, great for attempting a new PR (personal record or personal best). The Half Marathon is ideal as a training run for the Boston Marathon. Or double-down if you are so inclined and run the Half Marathon or 10K followed by the 5K. Whether you are running to win or doing a fun\, leisurely run or walk\, you are sure to enjoy Pride Run Phoenix. It's the more fun running and walking event where everyone's welcome. So\, show your pride\, and help support an excellent #IDEA   inclusion\, diversity\, equality\, and acceptance for everyone.
X-ALT-DESC;FMTTYPE=text/html:<span style="color: rgb(102\, 102\, 102)\; font-family: &quot\;Open Sans&quot\;\, Arial\, sans-serif\; font-size: 14px\; text-align: justify\;">Run or walk the Melrose District in midtown\, vibrant and one of the most colorful neighborhoods in Phoenix. It&rsquo\;s known for its antique and vintage shopping\, eateries\, diners\, bars\, and exciting nightlife\, and maybe a drag show or two. It is also known for having a supportive network of LGBTQ+ friendly businesses and residents.</span>\n<p style="box-sizing: border-box\; margin: 0px\; padding: 0px 0px 1em\; border: 0px\; outline: 0px\; font-size: 14px\; text-size-adjust: 100%\; vertical-align: baseline\; background-image: initial\; background-position: initial\; background-size: initial\; background-repeat: initial\; background-attachment: initial\; background-origin: initial\; background-clip: initial\; color: rgb(102\, 102\, 102)\; font-family: &quot\;Open Sans&quot\;\, Arial\, sans-serif\; text-align: justify\;">&nbsp\;</p>\n\n<p style="box-sizing: border-box\; margin: 0px\; padding: 0px 0px 1em\; border: 0px\; outline: 0px\; font-size: 14px\; text-size-adjust: 100%\; vertical-align: baseline\; background-image: initial\; background-position: initial\; background-size: initial\; background-repeat: initial\; background-attachment: initial\; background-origin: initial\; background-clip: initial\; color: rgb(102\, 102\, 102)\; font-family: &quot\;Open Sans&quot\;\, Arial\, sans-serif\; text-align: justify\;">Run or walk the Half Marathon\, 10K\, or 5K timed courses with fast\, flat routes around midtown\, great for attempting a new PR (personal record or personal best). The Half Marathon is ideal as a training run for the Boston Marathon. Or double-down if you are so inclined and run the Half Marathon or 10K followed by the 5K. Whether you are running to win or doing a fun\, leisurely run or walk\, you are sure to enjoy Pride Run Phoenix. It&rsquo\;s the more fun running and walking event where everyone&rsquo\;s welcome. So\, show your pride\, and help support an excellent #IDEA &ndash\; inclusion\, diversity\, equality\, and acceptance for everyone.</p>\n
LOCATION:Midtown Phoenix Melrose District
UID:e.2837.759
SEQUENCE:3
DTSTAMP:20260424T000839Z
URL:https://business.equalitychamber.org/events/details/pride-run-phoenix-759
END:VEVENT

END:VCALENDAR
