BEGIN:VCALENDAR
VERSION:2.0
PRODID:-//ChamberMaster//Event Calendar 2.0//EN
METHOD:PUBLISH
X-PUBLISHED-TTL:P3D
REFRESH-INTERVAL:P3D
CALSCALE:GREGORIAN
BEGIN:VEVENT
DTSTART:20221113T000000Z
DTEND:20221113T030000Z
X-MICROSOFT-CDO-ALLDAYEVENT:FALSE
SUMMARY:Queer Renaissance: Celebrating 25 Years of Night for Life
DESCRIPTION:An unforgettable evening of community and cocktails\, come out to Queer Renaissance to celebrate your royal self for the night! Discover our mission and impact while you mix\, mingle\, and enjoy fine libations and games among friends. ?? Your participation as an event attendee ensures the Southwest Center may continue offering equitable access to dignified health care for those most in need in our community. All event proceeds support the Richard P. Stahl Client Care Fund\, providing critical support through free and reduced cost healthcare to clients experiencing financial insecurity.???
X-ALT-DESC;FMTTYPE=text/html:An unforgettable evening of community and cocktails\, come out to Queer Renaissance to celebrate your royal self for the night! Discover our mission and impact while you mix\, mingle\, and enjoy fine libations and games among friends. ?? Your participation as an event attendee ensures the Southwest Center may continue offering equitable access to dignified health care for those most in need in our community. All event proceeds support the Richard P. Stahl Client Care Fund\, providing critical support through free and reduced cost healthcare to clients experiencing financial insecurity.???
LOCATION:Park Central Pavilion 3121 N 3rd Ave Phoenix\, AZ 85013
UID:e.2837.729
SEQUENCE:3
DTSTAMP:20260424T063651Z
URL:https://business.equalitychamber.org/events/details/queer-renaissance-celebrating-25-years-of-night-for-life-729
END:VEVENT

END:VCALENDAR
