BEGIN:VCALENDAR
VERSION:2.0
PRODID:-//ChamberMaster//Event Calendar 2.0//EN
METHOD:PUBLISH
X-PUBLISHED-TTL:P3D
REFRESH-INTERVAL:P3D
CALSCALE:GREGORIAN
BEGIN:VEVENT
DTSTART:20260614T170000Z
DTEND:20260614T230000Z
X-MICROSOFT-CDO-ALLDAYEVENT:FALSE
SUMMARY:Queer Summer Market
DESCRIPTION:The Equality Chamber of proud to host the 2nd Annual Queer Summer Market! It is a vibrant celebration of creativity\, community\, and commerce\, showcasing LGBTQ+ artisans\, entrepreneurs\, and small businesses. This annual event provides a platform for local makers and business owners to connect with the community\, share their unique creations\, and promote economic empowerment within the LGBTQ+ community.\n\nFeaturing a diverse range of vendors\, live entertainment\, and interactive experiences\, the Queer Summer Market offers an inclusive and welcoming space for all to celebrate the talent and resilience of the Greater Phoenix LGBTQ+ community. You definitely won't want to miss the dunk tank with your favorite community leaders getting wet!\n\nThis year's Queer Summer Market will feature an exciting new addition: the Queer Center Lounge. Created in collaboration with The Queer Center\, this dedicated space will bring live entertainment to the market while highlighting and supporting local LGBTQ+ artists and performers. The lounge will offer a welcoming place to relax\, connect\, and celebrate queer creativity adding even more energy\, visibility\, and community impact to the market experience.\n\n\n\nMarket Sponsorship\n\nVendor Application
X-ALT-DESC;FMTTYPE=text/html:<!-- x-tinymce/html -->\n<p>The Equality Chamber of proud to host the 2nd Annual Queer Summer Market! It is a vibrant celebration of creativity\, community\, and commerce\, showcasing LGBTQ+ artisans\, entrepreneurs\, and small businesses. This annual event provides a platform for local makers and business owners to connect with the community\, share their unique creations\, and promote economic empowerment within the LGBTQ+ community.</p>\n\n<p>Featuring a diverse range of vendors\, live entertainment\, and interactive experiences\, the Queer Summer Market offers an inclusive and welcoming space for all to celebrate the talent and resilience of the Greater Phoenix LGBTQ+ community. You definitely won&#39\;t want to miss the dunk tank with your favorite community leaders getting wet!<br />\nThis year&rsquo\;s Queer Summer Market will feature an exciting new addition: the Queer Center Lounge. Created in collaboration with The Queer Center\, this dedicated space will bring live entertainment to the market while highlighting and supporting local LGBTQ+ artists and performers. The lounge will offer a welcoming place to relax\, connect\, and celebrate queer creativity&mdash\;adding even more energy\, visibility\, and community impact to the market experience.<br />\n<br />\n<a href="https://givebutter.com/O2iaYz">Market Sponsorship</a><br />\n<a href="https://www.eventeny.com/events/2nd-annual-queer-summer-market-25296/?action=vendor">Vendor Application</a></p>\n
LOCATION:Warehouse215 215 E Grant St Phoenix\, AZ 85004
UID:e.2837.4983
SEQUENCE:3
DTSTAMP:20260422T133931Z
URL:https://business.equalitychamber.org/events/details/queer-summer-market-4983
END:VEVENT

END:VCALENDAR
