BEGIN:VCALENDAR
VERSION:2.0
PRODID:-//ChamberMaster//Event Calendar 2.0//EN
METHOD:PUBLISH
X-PUBLISHED-TTL:P3D
REFRESH-INTERVAL:P3D
CALSCALE:GREGORIAN
BEGIN:VEVENT
DTSTART:20221111T013000Z
DTEND:20221111T040000Z
X-MICROSOFT-CDO-ALLDAYEVENT:FALSE
SUMMARY:Sparkle Glitter GLSEN
DESCRIPTION:We're back in person and celebrating our 20th Anniversary! Join us for our 7th annual Sparkle Glitter GLSEN event which promises to be a fun and engaging cocktail fundraiser and awards experience! The 2022 event will include a ticketed in-person cocktail party with hors d'oeuvres and free drinks\, a moving Respect Awards ceremony\, live entertainment\, an incredible online limited-ticket travel raffle\, an exciting online silent auction\, and more! All proceeds benefit GLSEN Arizona\, working to ensure that each member of every K-12 school community is valued and respected\, regardless of sexual orientation\, gender identity\, or gender expression. For more information about our work\, please visit glsenarizona.org
X-ALT-DESC;FMTTYPE=text/html:We&#39\;re back in person and celebrating our 20th Anniversary! Join us for our 7th annual Sparkle Glitter GLSEN event which promises to be a fun and engaging cocktail fundraiser and awards experience! The 2022 event will include a ticketed in-person cocktail party with hors d&#39\;oeuvres and free drinks\, a moving Respect Awards ceremony\, live entertainment\, an incredible online limited-ticket travel raffle\, an exciting online silent auction\, and more! All proceeds benefit GLSEN Arizona\, working to ensure that each member of every K-12 school community is valued and respected\, regardless of sexual orientation\, gender identity\, or gender expression. For more information about our work\, please visit glsenarizona.org
LOCATION:Children's Museum of Phoenix
UID:e.2837.741
SEQUENCE:3
DTSTAMP:20260424T063339Z
URL:https://business.equalitychamber.org/events/details/sparkle-glitter-glsen-741
END:VEVENT

END:VCALENDAR
