BEGIN:VCALENDAR
VERSION:2.0
PRODID:-//ChamberMaster//Event Calendar 2.0//EN
METHOD:PUBLISH
X-PUBLISHED-TTL:P3D
REFRESH-INTERVAL:P3D
CALSCALE:GREGORIAN
BEGIN:VEVENT
DTSTART:20220807T170000Z
DTEND:20220807T210000Z
X-MICROSOFT-CDO-ALLDAYEVENT:FALSE
SUMMARY:Sunday Funday with The Equality Chamber
DESCRIPTION:
X-ALT-DESC;FMTTYPE=text/html:
LOCATION:Sunday\, Aug 7th @ The Main Event Avondale 10315 W McDowell Rd\, Avondale\, AZ 85392
UID:e.2837.249
SEQUENCE:3
DTSTAMP:20260424T111912Z
URL:https://business.equalitychamber.org/events/details/sunday-funday-with-the-equality-chamber-249
END:VEVENT

END:VCALENDAR
