BEGIN:VCALENDAR
VERSION:2.0
PRODID:-//ChamberMaster//Event Calendar 2.0//EN
METHOD:PUBLISH
X-PUBLISHED-TTL:P3D
REFRESH-INTERVAL:P3D
CALSCALE:GREGORIAN
BEGIN:VEVENT
DTSTART:20230920T160000Z
DTEND:20230920T180000Z
X-MICROSOFT-CDO-ALLDAYEVENT:FALSE
SUMMARY:Supplier Diversity Matchmaker Sessions
DESCRIPTION:Join GSBA online for round robin matchmaking sessions with Supplier Diversity Officers from corporations including Starbucks\, T-Mobile\, Wells Fargo and more.  \n\nIn these matchmaking sessions\, you will meet in small virtual break-out groups with each participating corporation to gain the latest information about their supplier diversity program\, how you can do business with them and how your business can access future opportunities. You'll then each have a chance to pitch your business (have your one minute elevator pitch ready!) and learn how you may be able to connect for contract opportunities. Some lucky participants will be chosen for one-on-one follow ups with each corporate leader!
X-ALT-DESC;FMTTYPE=text/html:<p align="center" style="text-align:center"><span style="font-size:11.5pt\;\nfont-family:&quot\;Tahoma&quot\;\,sans-serif\;color:black">Join GSBA online for round robin matchmaking sessions with&nbsp\;Supplier Diversity Officers from corporations including Starbucks\, T-Mobile\, Wells Fargo and more.&nbsp\;&nbsp\;</span><span style="font-size:10.5pt\;font-family:Roboto\;color:#7E7E7E"><o:p></o:p></span></p>\n\n<p align="center" style="text-align:center"><span style="font-size:11.5pt\;\nfont-family:&quot\;Tahoma&quot\;\,sans-serif\;color:black">In these matchmaking sessions\, you will meet in small virtual break-out groups with each participating corporation to gain the latest information about their supplier diversity program\, how you can do business with them and how your business can access future opportunities. You&rsquo\;ll then each have a chance to pitch your business (have your one minute elevator pitch ready!) and learn how you may be able to connect for contract opportunities.&nbsp\;Some lucky participants will be chosen for one-on-one follow ups with each corporate leader!&nbsp\;</span><span style="font-size:10.5pt\;font-family:Roboto\;color:#7E7E7E"><o:p></o:p></span></p>\n
LOCATION:Virtual Event
UID:e.2837.988
SEQUENCE:3
DTSTAMP:20260423T151428Z
URL:https://business.equalitychamber.org/events/details/supplier-diversity-matchmaker-sessions-988
END:VEVENT

END:VCALENDAR
