BEGIN:VCALENDAR
VERSION:2.0
PRODID:-//ChamberMaster//Event Calendar 2.0//EN
METHOD:PUBLISH
X-PUBLISHED-TTL:P3D
REFRESH-INTERVAL:P3D
CALSCALE:GREGORIAN
BEGIN:VEVENT
DTSTART:20221117T170000Z
DTEND:20221117T200000Z
X-MICROSOFT-CDO-ALLDAYEVENT:FALSE
SUMMARY:The Diversity Career Expo
DESCRIPTION:Ready to take that next step and make your mark with a company that truly values Diversity\, Equity  & Inclusion in the workplace? Then you are ready for our virtual Diversity Career Expo on November 17th from 10:00 - 1:00. Meet and chat one-on-one with recruiters looking to fill their job openings with someone like you\, all from the comfort of your home. Don't miss your chance\, REGISTER TODAY!
X-ALT-DESC;FMTTYPE=text/html:Ready to take that next step and make your mark with a company that truly values Diversity\, Equity&nbsp\; &amp\; Inclusion in the workplace? Then you are ready for our virtual Diversity Career Expo on <strong>November 17th </strong>from 10:00 - 1:00. Meet and chat one-on-one with recruiters looking to fill their job openings with someone like you\, all from the comfort of your home. Don&rsquo\;t miss your chance\, <a href="https://onecommunity.online/DCENov17"><span style="color:#1155CC\;">REGISTER TODAY</span></a>!
LOCATION:
UID:e.2837.740
SEQUENCE:3
DTSTAMP:20260424T063350Z
URL:https://business.equalitychamber.org/events/details/the-diversity-career-expo-740
END:VEVENT

END:VCALENDAR
