BEGIN:VCALENDAR
VERSION:2.0
PRODID:-//ChamberMaster//Event Calendar 2.0//EN
METHOD:PUBLISH
X-PUBLISHED-TTL:P3D
REFRESH-INTERVAL:P3D
CALSCALE:GREGORIAN
BEGIN:VEVENT
DTSTART:20260320T180000Z
DTEND:20260320T190000Z
X-MICROSOFT-CDO-ALLDAYEVENT:FALSE
SUMMARY:Therapists Unplugged
DESCRIPTION:Calling all therapists! It's time to trade case notes for coffee\, supervision for socializing\, and burnout for belly laughs. Join fellow clinicians for a relaxed daytime meetup designed just for you.\n\nCome as you are and connect in a space where networking feels human and community helps lighten the load.\n\n\n\n Hosted by the Queer Professional Coalition\, Affirming You Therapy\, and GPECC
X-ALT-DESC;FMTTYPE=text/html:<div>Calling all therapists! It&rsquo\;s time to trade case notes for coffee\, supervision for socializing\, and burnout for belly laughs. Join fellow clinicians for a relaxed daytime meetup designed just for you.<br />\nCome as you are and connect in a space where networking feels human and community helps lighten the load.<br />\n<br />\n&#8203\;Hosted by the Queer Professional Coalition\, Affirming You Therapy\, and GPECC&nbsp\;</div>\n
LOCATION:Valley Coffee 100 W Portland Phoenix\, AZ 85003
UID:e.2837.5289
SEQUENCE:3
DTSTAMP:20260422T084244Z
URL:https://business.equalitychamber.org/events/details/therapists-unplugged-5289
END:VEVENT

END:VCALENDAR
