BEGIN:VCALENDAR
VERSION:2.0
PRODID:-//ChamberMaster//Event Calendar 2.0//EN
METHOD:PUBLISH
X-PUBLISHED-TTL:P3D
REFRESH-INTERVAL:P3D
CALSCALE:GREGORIAN
BEGIN:VEVENT
DTSTART:20220512T000000Z
DTEND:20220512T020000Z
X-MICROSOFT-CDO-ALLDAYEVENT:FALSE
SUMMARY:Town Hall: the Arizona Legislature
DESCRIPTION:Join Equality Arizona and partners from Progress Arizona and Planned Parenthood Advocates of Arizona for a town hall on the state of public policy in the Arizona legislature. In the face of unprecedented attacks on voting rights\, reproductive freedom\, and LGBTQ+ equality\, solidarity between causes is crucial to protect all of us. In this town hall we'll discuss the legislation we've seen this session and the best strategies to push back. Send your questions in when you register\, and we'll answer them live!
X-ALT-DESC;FMTTYPE=text/html:<span style="color: rgb(46\, 47\, 58)\; font-family: futura-pt\; font-size: 19.2px\; background-color: rgb(254\, 251\, 246)\;">Join Equality Arizona and partners from Progress Arizona and Planned Parenthood Advocates of Arizona for a town hall on the state of public policy in the Arizona legislature. In the face of unprecedented attacks on voting rights\, reproductive freedom\, and LGBTQ+ equality\, solidarity between causes is crucial to protect all of us. In this town hall we&rsquo\;ll discuss the legislation we&rsquo\;ve seen this session and the best strategies to push back. Send your questions in when you register\, and we&rsquo\;ll answer them live!</span>
LOCATION:Via Zoom
UID:e.2837.709
SEQUENCE:3
DTSTAMP:20260424T154554Z
URL:https://business.equalitychamber.org/events/details/town-hall-the-arizona-legislature-709
END:VEVENT

END:VCALENDAR
