BEGIN:VCALENDAR
VERSION:2.0
PRODID:-//ChamberMaster//Event Calendar 2.0//EN
METHOD:PUBLISH
X-PUBLISHED-TTL:P3D
REFRESH-INTERVAL:P3D
CALSCALE:GREGORIAN
BEGIN:VEVENT
DTSTART:20220507T180000Z
DTEND:20220507T220000Z
X-MICROSOFT-CDO-ALLDAYEVENT:FALSE
SUMMARY:Trans Rights Phone Bank
DESCRIPTION:Following Governor Ducey's decision to sign SB 1138 and SB 1165 into law\, and the actions of state governments across the country to limit access to transition care and social and educational opportunities\, the trans community is in a moment of incredible vulnerability. On May 7\, join Equality Arizona at the Tempe Public Library for our first in-person phone bank of the year to volunteer in support of our trans family\, friends and neighbors. We'll offer free drinks from the Connections Caf  and provide masks to reduce risk.
X-ALT-DESC;FMTTYPE=text/html:<span style="color: rgb(46\, 47\, 58)\; font-family: futura-pt\; font-size: 19.2px\; background-color: rgb(254\, 251\, 246)\;">Following Governor Ducey&rsquo\;s decision to sign&nbsp\;</span><a href="https://www.equalityarizona.org/action.html" style="font-family: futura-pt\; margin: 0px\; padding: 0px\; color: rgb(31\, 81\, 147)\; text-decoration-line: none\; font-size: 19.2px\; background-color: rgb(254\, 251\, 246)\;">SB 1138 and SB 1165</a><span style="color: rgb(46\, 47\, 58)\; font-family: futura-pt\; font-size: 19.2px\; background-color: rgb(254\, 251\, 246)\;">&nbsp\;into law\, and the actions of state governments across the country to limit access to transition care and social and educational opportunities\, the trans community is in a moment of incredible vulnerability. On May 7\, join Equality Arizona at the Tempe Public Library for our first in-person phone bank of the year to volunteer in support of our trans family\, friends and neighbors. We&rsquo\;ll offer free drinks from the Connections Caf&eacute\; and provide masks to reduce risk.</span>
LOCATION:Tempe Public Library
UID:e.2837.708
SEQUENCE:3
DTSTAMP:20260424T152230Z
URL:https://business.equalitychamber.org/events/details/trans-rights-phone-bank-708
END:VEVENT

END:VCALENDAR
