BEGIN:VCALENDAR
VERSION:2.0
PRODID:-//ChamberMaster//Event Calendar 2.0//EN
METHOD:PUBLISH
X-PUBLISHED-TTL:P3D
REFRESH-INTERVAL:P3D
CALSCALE:GREGORIAN
BEGIN:VEVENT
DTSTART:20230302T160000Z
DTEND:20230302T200000Z
X-MICROSOFT-CDO-ALLDAYEVENT:FALSE
SUMMARY:U. S. Department of the Interior Bipartisan Infrastructure Law (BIL) In-Person Industry Day
DESCRIPTION:On behalf of the U.S. Department of the Interior (DOI)\, the Office of Small and Disadvantaged Business Utilization (OSDBU) and the Office of Grants Management\, we are inviting you to attend and/or share with your constitutes the U. S. Department of the Interior Bipartisan Infrastructure Law (BIL) In-Person Industry Day.
X-ALT-DESC;FMTTYPE=text/html:<span style="color:black\;"><span style="font-family:calibri\,sans-serif\;"><span style="font-size:14.0pt\;">On behalf of the U.S. Department of the Interior (DOI)\, the Office of Small and Disadvantaged Business Utilization (OSDBU) and the Office of Grants Management\, we are inviting you to attend and/or share with your constitutes the U. S. Department of the Interior&nbsp\;</span></span></span><span style="color:#0070C0\;"><span style="font-family:calibri\,sans-serif\;"><span style="font-size:14.0pt\;">Bipartisan Infrastructure Law (BIL)</span></span></span><span style="color:black\;"><span style="font-family:calibri\,sans-serif\;"><span style="font-size:14.0pt\;">&nbsp\;In-Person Industry Day.&nbsp\;&nbsp\;</span></span></span>
LOCATION:Bureau of Land Management Training Center 9828 North 31st Ave. Phoenix\, AZ 85051
UID:e.2837.755
SEQUENCE:3
DTSTAMP:20260424T002223Z
URL:https://business.equalitychamber.org/events/details/u-s-department-of-the-interior-bipartisan-infrastructure-law-bil-in-person-industry-day-755
END:VEVENT

END:VCALENDAR
