BEGIN:VCALENDAR
VERSION:2.0
PRODID:-//ChamberMaster//Event Calendar 2.0//EN
METHOD:PUBLISH
X-PUBLISHED-TTL:P3D
REFRESH-INTERVAL:P3D
CALSCALE:GREGORIAN
BEGIN:VEVENT
DTSTART:20231205T170000Z
DTEND:20231205T210000Z
X-MICROSOFT-CDO-ALLDAYEVENT:FALSE
SUMMARY:Unity Summit
DESCRIPTION:Dec 5th\, 10-11 am\n\nSESSION 1: LGBTQ+ in Arizona - Panel Discussion: The Solutions Moving Forward\n\nModerator: Angela Hughey\, President\, ONE Community\n\nPanelists: Nate Rhoton\, CEO\, one-n-ten\n\nJessyca Leach\, Executive Director\, Southwest Center for HIV/AIDS\n\nMichele White\, Executive Director\, Greater Phoenix Equality Chamber of Commerce\nREGISTER HERE\n\n\n\nDec 5th\, 1-2 pm\n\nSession 2: Antisemitism\, Homophobia\, and Transphobia Walking Together\n\nMichael Soto\, Chief Advocacy Officer\, ONE Community\n\nPaul Rockower\, Executive Director\, Jewish Community Relations Council of Greater Phoenix\n\nEddie Chavez Calderon\, Campaign Director\, Uri L'Tzedek\n\nREGISTER HERE
X-ALT-DESC;FMTTYPE=text/html:<div>Dec 5th\, 10-11 am</div>\n\n<div>SESSION 1: LGBTQ+ in Arizona - Panel Discussion: The Solutions Moving Forward</div>\n\n<div>Moderator: Angela Hughey\, President\, ONE Community</div>\n\n<div>Panelists: Nate Rhoton\, CEO\, one-n-ten</div>\n\n<div>Jessyca Leach\, Executive Director\, Southwest Center for HIV/AIDS</div>\n\n<div>Michele White\, Executive Director\, Greater Phoenix Equality Chamber of Commerce</div>\n<a href="https://www.eventbrite.com/e/2023-unity-summit-session-1-lgbtq-in-arizona-panel-discussion-tickets-727713609997?aff=oddtdtcreator">REGISTER HERE</a>\n\n<div><br />\nDec 5th\, 1-2 pm</div>\n\n<h3>Session 2:&nbsp\;Antisemitism\, Homophobia\, and Transphobia Walking Together</h3>\n\n<div>Michael Soto\, Chief Advocacy Officer\, ONE Community</div>\n\n<div>Paul Rockower\, Executive Director\, Jewish Community Relations Council of Greater Phoenix</div>\n\n<div>Eddie Chavez Calderon\,&nbsp\;Campaign Director\, Uri L&rsquo\;Tzedek<br />\n<a href="https://www.eventbrite.com/e/2023-unity-summit-session-2-antisemitism-homophobia-and-transphobia-tickets-753259759217?aff=oddtdtcreator">REGISTER HERE</a></div>\n
LOCATION:Virtual
UID:e.2837.1015
SEQUENCE:3
DTSTAMP:20260424T152133Z
URL:https://business.equalitychamber.org/events/details/unity-summit-1015
END:VEVENT

END:VCALENDAR
