BEGIN:VCALENDAR
VERSION:2.0
PRODID:-//ChamberMaster//Event Calendar 2.0//EN
METHOD:PUBLISH
X-PUBLISHED-TTL:P3D
REFRESH-INTERVAL:P3D
CALSCALE:GREGORIAN
BEGIN:VEVENT
DTSTART:20231206T170000Z
DTEND:20231206T210000Z
X-MICROSOFT-CDO-ALLDAYEVENT:FALSE
SUMMARY:Unity Summit
DESCRIPTION:Dec 6th 10-11am\n\nSession 3: How to Make Political Change without Fueling Extremism and Polarization\n\nA presentation by Michael Soto followed by a panel featuring\n\nJohn Giles\, Mayor\, City of Mesa\n\nSara Burlingame\, Executive Director\, Wyoming Equality\n\nREGISTER HERE\n\n \n\nDec 6th 1-2pm\n\nSession 4: The UNITY Journey Presentation - A Case Study of Prioritizing Inclusivity for Businesses\n\nA presentation by Angela Hughey followed by a panel featuring:\n\nGabe Hagen\, Co-Owner Brickroad Coffee\n\nLiza Buchanan\, SVP Marketing Operations\, ONEAZ Credit Union\n\nREGISTER HERE
X-ALT-DESC;FMTTYPE=text/html:<p>Dec 6th 10-11am</p>\n\n<h3>Session 3:&nbsp\;How to Make Political Change without Fueling Extremism and Polarization</h3>\n\n<p>A presentation by Michael Soto followed by a panel featuring</p>\n\n<p>John Giles\, Mayor\, City of Mesa</p>\n\n<p>Sara Burlingame\, Executive Director\, Wyoming Equality</p>\n\n<p><a href="https://www.eventbrite.com/e/2023-unity-summit-session-3-how-to-make-political-change-tickets-753261835427?aff=oddtdtcreator" rel="noopener" target="_blank">REGISTER HERE</a></p>\n\n<p>&nbsp\;</p>\n\n<p>Dec 6th 1-2pm</p>\n\n<h3>Session 4:&nbsp\;The UNITY Journey Presentation -&nbsp\;A Case Study of Prioritizing Inclusivity for Businesses</h3>\n\n<p>A presentation by Angela Hughey followed by a panel featuring:</p>\n\n<p>Gabe Hagen\, Co-Owner Brickroad Coffee</p>\n\n<p>Liza Buchanan\, SVP Marketing Operations\, ONEAZ Credit Union</p>\n\n<p><a href="https://www.eventbrite.com/e/2023-unity-summit-session-4-the-unity-journey-tickets-753263119267?aff=oddtdtcreator" rel="noopener" target="_blank">REGISTER HERE</a></p>\n
LOCATION:Virtual
UID:e.2837.1016
SEQUENCE:3
DTSTAMP:20260424T075100Z
URL:https://business.equalitychamber.org/events/details/unity-summit-1016
END:VEVENT

END:VCALENDAR
